BEGIN:VCALENDAR
VERSION:2.0
PRODID:-//Taradell.com - ECPv6.15.20//NONSGML v1.0//EN
CALSCALE:GREGORIAN
METHOD:PUBLISH
X-WR-CALNAME:Taradell.com
X-ORIGINAL-URL:https://www.taradell.com
X-WR-CALDESC:Esdeveniments per Taradell.com
REFRESH-INTERVAL;VALUE=DURATION:PT1H
X-Robots-Tag:noindex
X-PUBLISHED-TTL:PT1H
BEGIN:VTIMEZONE
TZID:Europe/Madrid
BEGIN:DAYLIGHT
TZOFFSETFROM:+0100
TZOFFSETTO:+0200
TZNAME:CEST
DTSTART:20250330T010000
END:DAYLIGHT
BEGIN:STANDARD
TZOFFSETFROM:+0200
TZOFFSETTO:+0100
TZNAME:CET
DTSTART:20251026T010000
END:STANDARD
BEGIN:DAYLIGHT
TZOFFSETFROM:+0100
TZOFFSETTO:+0200
TZNAME:CEST
DTSTART:20260329T010000
END:DAYLIGHT
BEGIN:STANDARD
TZOFFSETFROM:+0200
TZOFFSETTO:+0100
TZNAME:CET
DTSTART:20261025T010000
END:STANDARD
BEGIN:DAYLIGHT
TZOFFSETFROM:+0100
TZOFFSETTO:+0200
TZNAME:CEST
DTSTART:20270328T010000
END:DAYLIGHT
BEGIN:STANDARD
TZOFFSETFROM:+0200
TZOFFSETTO:+0100
TZNAME:CET
DTSTART:20271031T010000
END:STANDARD
END:VTIMEZONE
BEGIN:VEVENT
DTSTART;TZID=Europe/Madrid:20260420T173000
DTEND;TZID=Europe/Madrid:20260420T183000
DTSTAMP:20260420T035253
CREATED:20260324T072805Z
LAST-MODIFIED:20260324T072805Z
UID:102735-1776706200-1776709800@www.taradell.com
SUMMARY:Hora del conte: 'Princeses blaves i prínceps encantadors'
DESCRIPTION:Anirà a càrrec de Lídia Clua. No cal inscripció.
URL:https://www.taradell.com/agenda/hora-del-conte-princeses-blaves-i-princeps-encantadors/
LOCATION:Biblioteca Antoni Pladevall i Font\, Carretera de Balenyà\, 101\, Taradell\, Catalunya\, 08552
CATEGORIES:Cultura,Literatura
ORGANIZER;CN="Biblioteca Antoni Pladevall i Font":MAILTO:b.taradell@diba.cat
END:VEVENT
BEGIN:VEVENT
DTSTART;TZID=Europe/Madrid:20260423T080000
DTEND;TZID=Europe/Madrid:20260423T183000
DTSTAMP:20260420T035253
CREATED:20260316T104148Z
LAST-MODIFIED:20260316T104148Z
UID:102670-1776931200-1776969000@www.taradell.com
SUMMARY:Sant Jordi 2026: Parades de roses i llibres
DESCRIPTION:
URL:https://www.taradell.com/agenda/sant-jordi-2026-parades-de-roses-i-llibres/
LOCATION:Carrers del centre
CATEGORIES:Cultura
END:VEVENT
BEGIN:VEVENT
DTSTART;TZID=Europe/Madrid:20260423T170000
DTEND;TZID=Europe/Madrid:20260423T180000
DTSTAMP:20260420T035253
CREATED:20260316T104333Z
LAST-MODIFIED:20260316T104347Z
UID:102672-1776963600-1776967200@www.taradell.com
SUMMARY:Sant Jordi 2026: Berenar amb coca i xocolata
DESCRIPTION:Berenar de coca amb xocolata per a tothom.
URL:https://www.taradell.com/agenda/sant-jordi-2026-berenar-amb-coca-i-xocolata/
LOCATION:Cruïlla Pg. Domènec Sert – Ctra. Mont-rodon
CATEGORIES:Celebració,Cultura
ORGANIZER;CN="Ajuntament de Taradell":MAILTO:938 12 61 00
END:VEVENT
BEGIN:VEVENT
DTSTART;TZID=Europe/Madrid:20260423T170000
DTEND;TZID=Europe/Madrid:20260423T180000
DTSTAMP:20260420T035253
CREATED:20260316T104613Z
LAST-MODIFIED:20260416T175654Z
UID:102679-1776963600-1776967200@www.taradell.com
SUMMARY:Sant Jordi 2026: Taller de maquetes de patrimoni: El campanar
DESCRIPTION:Taller familiar amb el patrimoni de Taradell com a eix vertebrador\, en el qual es podrà reproduir\, amb paper retallable\, una maqueta del Campanar. \nIdeal per a totes les edats.
URL:https://www.taradell.com/agenda/sant-jordi-2026-taller-infantil/
LOCATION:Cruïlla Pg. Domènec Sert – Ctra. Mont-rodon
CATEGORIES:Celebració,Cultura
ORGANIZER;CN="Ajuntament de Taradell":MAILTO:938 12 61 00
END:VEVENT
BEGIN:VEVENT
DTSTART;TZID=Europe/Madrid:20260423T170000
DTEND;TZID=Europe/Madrid:20260423T183000
DTSTAMP:20260420T035253
CREATED:20260316T104442Z
LAST-MODIFIED:20260316T104510Z
UID:102676-1776963600-1776969000@www.taradell.com
SUMMARY:Sant Jordi 2026: Parada de signatura de llibres d'autors locals
DESCRIPTION:Entre les 5 i les 7 de la tarda\, al Passeig de Domènec Sert\, diversos autors i autores locals firmaran els seus llibres publicats durant el darrer any.
URL:https://www.taradell.com/agenda/sant-jordi-2026/
LOCATION:Cruïlla Pg. Domènec Sert – Ctra. Mont-rodon
CATEGORIES:Celebració,Cultura
ORGANIZER;CN="Ajuntament de Taradell":MAILTO:938 12 61 00
END:VEVENT
BEGIN:VEVENT
DTSTART;TZID=Europe/Madrid:20260423T174500
DTEND;TZID=Europe/Madrid:20260423T180000
DTSTAMP:20260420T035253
CREATED:20260316T104752Z
LAST-MODIFIED:20260316T104752Z
UID:102682-1776966300-1776967200@www.taradell.com
SUMMARY:Sant Jordi 2026: Cercavila de Gegants i el Drac de l'Arpa
DESCRIPTION:El Drac de l’Escola d’Arts L’ARPA i els Gegants de Taradell\, en Guillem de Mont-rodon\, la Tiburgeta i en Carles de Cruïlles\, sortiran en cercavila des del Passeig Domènec Sert amb la Carretera de Mont-rodon fins a la Plaça de les Eres\, on tindrà lloc l’espectacle infantil.
URL:https://www.taradell.com/agenda/sant-jordi-2026-cercavila-de-gegants-i-el-drac-de-larpa/
LOCATION:Cruïlla Pg. Domènec Sert – Ctra. Mont-rodon
CATEGORIES:Celebració,Cultura
ORGANIZER;CN="Ajuntament de Taradell":MAILTO:938 12 61 00
END:VEVENT
BEGIN:VEVENT
DTSTART;TZID=Europe/Madrid:20260423T181500
DTEND;TZID=Europe/Madrid:20260423T190000
DTSTAMP:20260420T035253
CREATED:20260316T104843Z
LAST-MODIFIED:20260316T104843Z
UID:102684-1776968100-1776970800@www.taradell.com
SUMMARY:Sant Jordi 2026: La paradeta\, espectacle familiar amb Circ Vermut
DESCRIPTION:Esteu a punt de gaudir d’un nou espectacle familiar a càrrec de la companyia Circ Vermut. Una companyia de circ consolidada que es caracteritza per la creació d’universos absurds. \nAquesta vegada\, assumint que la cultura no és del tot rendible\, han decidit decantar-se per la comercialització de begudes creant un espectacle 50 % circ i 50% vermut.\nA La Paradeta hi podreu veure malabars amb taronges i ganivets\, una Festa a la perxa xinesa\, equilibris impossibles i caigudes que us faran pixar de riure. \nÉs l’hora del vermut! \nApagueu els vostres telèfons mòbils i gaudiu de l’espectacle. \nEn cas de pluja\, l’acte es farà a Can Costa Centre Cultural.
URL:https://www.taradell.com/agenda/sant-jordi-2026-la-paradeta-espectacle-familiar-amb-circ-vermut/
LOCATION:Plaça de les Eres\, Plaça de les Eres\, Taradell\, Catalunya
CATEGORIES:Celebració,Cultura
ORGANIZER;CN="Ajuntament de Taradell":MAILTO:938 12 61 00
END:VEVENT
BEGIN:VEVENT
DTSTART;TZID=Europe/Madrid:20260424T190000
DTEND;TZID=Europe/Madrid:20260424T200000
DTSTAMP:20260420T035253
CREATED:20260416T175811Z
LAST-MODIFIED:20260416T175811Z
UID:102791-1777057200-1777060800@www.taradell.com
SUMMARY:Inauguració de l'Exposició Simfonia per a llapis i pinzell\, de J.J. Coll i J.M. Ramos
DESCRIPTION:Inauguració de l’exposició Simfonia per a llapis i pinzell\, de J.J. Coll i J. M. Ramos que es podrà visitar a la Sala d’Exposicions de Can Costa Centre Cultural\, del 24 d’abril al 11 de maig.
URL:https://www.taradell.com/agenda/inauguracio-de-lexposicio-simfonia-per-a-llapis-i-pinzell-de-j-j-coll-i-j-m-ramos/
LOCATION:Can Costa Centre Cultural\, Crta. de Balenyà\, 101\, Taradell\, Catalunya\, 08552\, Spain
ORGANIZER;CN="Ajuntament de Taradell":MAILTO:938 12 61 00
END:VEVENT
BEGIN:VEVENT
DTSTART;TZID=Europe/Madrid:20260425T160000
DTEND;TZID=Europe/Madrid:20260425T180000
DTSTAMP:20260420T035253
CREATED:20260316T104933Z
LAST-MODIFIED:20260316T104933Z
UID:102686-1777132800-1777140000@www.taradell.com
SUMMARY:Futbol: UD Taradell - Ametlla Vallès
DESCRIPTION:
URL:https://www.taradell.com/agenda/futbol-ud-taradell-ametlla-valles/
LOCATION:Camp de futbol La Roureda\, Camp de Futbol La Roureda\, Taradell\, Catalunya\, 08552
CATEGORIES:Esports
END:VEVENT
BEGIN:VEVENT
DTSTART;TZID=Europe/Madrid:20260426T180000
DTEND;TZID=Europe/Madrid:20260426T190000
DTSTAMP:20260420T035253
CREATED:20260416T180109Z
LAST-MODIFIED:20260416T180109Z
UID:102796-1777226400-1777230000@www.taradell.com
SUMMARY:XIIè Cicle de Músiques a Santa Llúcia: Variacions Goldberg\, amb Renata Tanellari\, Fulgencio Sandoval i Marc Galobardes
DESCRIPTION:Preu: 15 euros \nMúsica per a clave transformada a la ductilitat de la corda fregada. Les Variacions Goldberg en versió per a trio de corda\, amb Renata Tanellari al violi\, Fulgencio Sandoval a la viola i Marc Galobardes al violoncel. Un concert per a viure.
URL:https://www.taradell.com/agenda/xiie-cicle-de-musiques-a-santa-llucia-variacions-goldberg-amb-renata-tanellari-fulgencio-sandoval-i-marc-galobardes/
LOCATION:Capella de Santa Llúcia\, Taradell\, Catalunya\, 08552
END:VEVENT
BEGIN:VEVENT
DTSTART;TZID=Europe/Madrid:20260429T190000
DTEND;TZID=Europe/Madrid:20260429T200000
DTSTAMP:20260420T035253
CREATED:20260416T180233Z
LAST-MODIFIED:20260416T180233Z
UID:102798-1777489200-1777492800@www.taradell.com
SUMMARY:Hora del conte - Petits Lectors: 'El pastís és tan amunt'
DESCRIPTION:Està adreçat a infants de 0 a 3 anys. Cal inscripció prèvia. \nMail: b.taradell@diba.cat
URL:https://www.taradell.com/agenda/hora-del-conte-petits-lectors-el-pastis-es-tan-amunt/
LOCATION:Biblioteca Antoni Pladevall i Font\, Carretera de Balenyà\, 101\, Taradell\, Catalunya\, 08552
CATEGORIES:Cultura
ORGANIZER;CN="Biblioteca Antoni Pladevall i Font":MAILTO:b.taradell@diba.cat
END:VEVENT
BEGIN:VEVENT
DTSTART;TZID=Europe/Madrid:20260430T170000
DTEND;TZID=Europe/Madrid:20260430T183000
DTSTAMP:20260420T035253
CREATED:20260416T180402Z
LAST-MODIFIED:20260416T180402Z
UID:102800-1777568400-1777573800@www.taradell.com
SUMMARY:Tarda Jove: El joc d'el Pitxi
DESCRIPTION:El Pitxi\, el joc més mític que barreja beisbol + rialles + competició! \nEs faran equips\, correran bases\, cridaran com si fos la final… i sobretot\, passaran una tarda brutal amb la gent del Taradell Jove. No cal saber-ne\, només venir amb ganes!
URL:https://www.taradell.com/agenda/tarda-jove-el-joc-del-pitxi/
LOCATION:Taradell Jove\, C/ Ramon Pou\, 60\, Taradell\, Catalunya\, 08552
CATEGORIES:Joventut
ORGANIZER;CN="Taradell Jove":MAILTO:taradelljove@taradell.cat
END:VEVENT
BEGIN:VEVENT
DTSTART;TZID=Europe/Madrid:20260430T183000
DTEND;TZID=Europe/Madrid:20260430T193000
DTSTAMP:20260420T035253
CREATED:20260416T180510Z
LAST-MODIFIED:20260416T180510Z
UID:102802-1777573800-1777577400@www.taradell.com
SUMMARY:Club de novel·la: 'Carta d'una desconeguda' d'Stefan Zweig
DESCRIPTION:Gratuït \nAnirà a càrrec de Núria Martínez \nLa novel·la narra la història d’una dona que escriu una carta apassionada a un home famós\, revelant-li que ha estimat tota la vida sense que ell en fos conscient. A través del seu relat\, descobrim la intensitat del desig\, l’amor incondicional i la solitud emocional que ha marcat la seva existència. Zweig retrata amb delicadesa la passió i el dolor d’un amor secret i inoblidable.
URL:https://www.taradell.com/agenda/club-de-novella-carta-duna-desconeguda-dstefan-zweig/
LOCATION:Biblioteca Antoni Pladevall i Font\, Carretera de Balenyà\, 101\, Taradell\, Catalunya\, 08552
CATEGORIES:Literatura
ORGANIZER;CN="Biblioteca Antoni Pladevall i Font":MAILTO:b.taradell@diba.cat
END:VEVENT
BEGIN:VEVENT
DTSTART;TZID=Europe/Madrid:20260502T090000
DTEND;TZID=Europe/Madrid:20260502T170000
DTSTAMP:20260420T035253
CREATED:20260416T180633Z
LAST-MODIFIED:20260416T180633Z
UID:102804-1777712400-1777741200@www.taradell.com
SUMMARY:Torneig TAR Football 2026
DESCRIPTION:Fase de lliguetes del torneig\, on cinc equips participants disputaran una lliga per classificar-se a les fases finals\, a la del 17è al 24è\, a la del 25è al 36è\, a la del 37è al 48è i a la del 49è al 60è del torneig\, que es jugaran diumenge. \nEls partits tindran lloc de les 9 del matí a les 5 de la tarda. El Camp Municipal de la Roureda acollirà la fase de classificació dels grups A. Paral·lelament\, es disputaran partits dels grups B i C al camp de Santa Eugènia de Berga\, dels grups D i E a les instal·lacions de Sant Julià de Vilatorta\, dels grups F\, G i H a l’Estadi Torres i Bages de Vic i\, els grups I\, J\, K\, L a les instal·lacions de la Zona Esportiva de Vic. \nAl torneig hi participaran nou equips de La Liga\, com el Real Betis\, el Sevilla\, el FC Barcelona\, el RCD Espanyol\, l’Atlètic de Madrid\, el RCD Mallorca\, el Girona FC i el Vila-real CF. També hi competiran el Tolousede França\, l’Sporting de Braga de Portugal\, el Brentford d’Anglaterra així com el Milan d’Itàlia. A més\, hi participaran equips internacionals vinguts de 22 països diferents. En total\, el torneig comptarà amb uns 60 equips.
URL:https://www.taradell.com/agenda/torneig-tar-football-2026/
LOCATION:Camp de futbol La Roureda\, Camp de Futbol La Roureda\, Taradell\, Catalunya\, 08552
CATEGORIES:Esports
END:VEVENT
BEGIN:VEVENT
DTSTART;TZID=Europe/Madrid:20260502T190000
DTEND;TZID=Europe/Madrid:20260502T200000
DTSTAMP:20260420T035253
CREATED:20260416T180754Z
LAST-MODIFIED:20260416T180754Z
UID:102808-1777748400-1777752000@www.taradell.com
SUMMARY:Hoquei: CP Taradell - Noia Freixenet
DESCRIPTION:
URL:https://www.taradell.com/agenda/hoquei-cp-taradell-noia-freixenet/
LOCATION:Pavelló municipal\, Carrer Abelles\, s/n\, Taradell\, Catalunya\, 08552
CATEGORIES:Esports
END:VEVENT
BEGIN:VEVENT
DTSTART;TZID=Europe/Madrid:20260503T090000
DTEND;TZID=Europe/Madrid:20260503T170000
DTSTAMP:20260420T035253
CREATED:20260416T180709Z
LAST-MODIFIED:20260416T180709Z
UID:102806-1777798800-1777827600@www.taradell.com
SUMMARY:Torneig TAR Football 2026
DESCRIPTION:Diumenge\, el camp de la Roureda acollirà les fases finals del torneig\, un espectacle que\, des de l’any 2016\, es viu intensament a les instal·lacions de la UD Taradell. \nA partir de les 9 del matí es jugaran els partits de vuitens de final entre els camps de Taradell i Santa Eugènia. A les 11\, serà el torn dels quarts de final del torneig i\, després de dinar\, es disputaran les semifinals i la gran final (17 h). També es jugarà el partit pel 3r i 4t lloc (16:15h). \nAl torneig hi participaran nou equips de La Liga\, com el Real Betis\, el Sevilla\, el FC Barcelona\, el RCD Espanyol\, l’Atlètic de Madrid\, el RCD Mallorca\, el Girona FC i el Vila-real CF. També hi competiran el Tolousede França\, l’Sporting de Braga de Portugal\, el Brentford d’Anglaterra així com el Milan d’Itàlia. A més\, hi participaran equips internacionals vinguts de 22 països diferents. En total\, el torneig comptarà amb uns 60 equips.
URL:https://www.taradell.com/agenda/torneig-tar-football-2026-2/
LOCATION:Camp de futbol La Roureda\, Camp de Futbol La Roureda\, Taradell\, Catalunya\, 08552
CATEGORIES:Esports
END:VEVENT
BEGIN:VEVENT
DTSTART;TZID=Europe/Madrid:20260503T103000
DTEND;TZID=Europe/Madrid:20260503T130000
DTSTAMP:20260420T035253
CREATED:20260416T180843Z
LAST-MODIFIED:20260416T180843Z
UID:102810-1777804200-1777813200@www.taradell.com
SUMMARY:Aplec de sardanes a l'Ermita de Sant Quirze Subiradells
DESCRIPTION:L’Agrupació Sardanista innova enguany el format de l’habitual Aplec del Castell\, que durant diferents anys s’havia celebrat en aquest indret\, i a partir d’ara es traslladarà cada any a un punt emblemàtic diferent del municipi anomenant-lo Aplec itinerant. \nEn aquesta ocasió\, gaudirem d’una ballada de sardanes en un entorn privilegiat com és l’ermita de Sant Quirze de Subiradells\, al Barri de la Roca\, amb la música en directe de la Cobla Lluïsos de Taradell. \nDurant el matí hi haurà venda d’entrepans\, begudes i cafès per esmorzar i col·laborar amb la festa com ja n’és tradició.
URL:https://www.taradell.com/agenda/aplec-de-sardanes-a-lermita-de-sant-quirze-subiradells/
LOCATION:Catalunya
CATEGORIES:Cultura
END:VEVENT
BEGIN:VEVENT
DTSTART;TZID=Europe/Madrid:20260510T170000
DTEND;TZID=Europe/Madrid:20260510T180000
DTSTAMP:20260420T035253
CREATED:20260416T181042Z
LAST-MODIFIED:20260416T181042Z
UID:102812-1778432400-1778436000@www.taradell.com
SUMMARY:CINE XIC: pel·lícula 'Ernest & Celestine\, contes de primavera'
DESCRIPTION:Preu: 3 € / Família \nSinopsi: Arriba la primavera i\, amb ella\, el bon temps\, el sol i el vent de Charabia\, terra natal d’Ernest\, que anuncia el canvi d’estació. Per celebrar la seva arribada\, la Celestine i les seves amigues les ratetes preparen deliciosos pastissos i bonics decorats florals. \nNoves i acolorides aventures de la parella formada per la intel·ligent rateta Celestine i l’Ernest\, un os gran i somiador. \n\nDirecció: Aurélie Raphaël \nDurada: 48 minuts \nGènere: Dibuixos animats \nQualificació d’edat: Recomanada a partir de 3 anys \nTràiler: 
URL:https://www.taradell.com/agenda/cine-xic-pellicula-ernest-celestine-contes-de-primavera/
LOCATION:Can Costa Centre Cultural\, Crta. de Balenyà\, 101\, Taradell\, Catalunya\, 08552\, Spain
CATEGORIES:Cultura
ORGANIZER;CN="Ajuntament de Taradell":MAILTO:938 12 61 00
END:VEVENT
BEGIN:VEVENT
DTSTART;TZID=Europe/Madrid:20260510T190000
DTEND;TZID=Europe/Madrid:20260510T203000
DTSTAMP:20260420T035253
CREATED:20260416T181236Z
LAST-MODIFIED:20260416T181236Z
UID:102814-1778439600-1778445000@www.taradell.com
SUMMARY:Cicle de Cinema Gaudí: pel·lícula 'Sirat'
DESCRIPTION:Preu: \n\nGeneral 4\,50 €\nCarnet Jove i Socis de la Federació d’Ateneus de Catalunya 3\,00 €\nClub Vanguardia 2×1\n\nSinopsi: En Lluís (Sergi López) i el seu fill Esteban (Bruno Núñez) emprenen un viatge cap a les muntanyes del sud del Marroc a la recerca de la Mar\, la filla i germana dels dos protagonistes\, després de mesos desapareguda. La busquen desesperadament enmig d’una rave al desert i en aquest lloc inhòspit i envoltats de música electrònica i d’un món que desconeixen\, troben a un grup de ravers que els parlen d’una última festa encara més lluny\, al sud d’Àfrica. Amb l’esperança de trobar-la allà\, pare i fill s’uneixen al grup i inicien un perillós pelegrinatge cap a la festa definitiva\, una travessa pel desert marroquí plena d’incerteses i entrebancs \n\nDirecció: Oliver Laxe \nGuió: Oliver Laxe i Santiago Fillol \nDurada: 111 minuts \nGènere: Drama \nQualificació d’edat: No recomenada per a menors de 16 anys \nTràiler: 
URL:https://www.taradell.com/agenda/cicle-de-cinema-gaudi-pellicula-sirat/
LOCATION:Can Costa Centre Cultural\, Crta. de Balenyà\, 101\, Taradell\, Catalunya\, 08552\, Spain
CATEGORIES:Cultura
ORGANIZER;CN="Ajuntament de Taradell":MAILTO:938 12 61 00
END:VEVENT
BEGIN:VEVENT
DTSTART;TZID=Europe/Madrid:20260511T183000
DTEND;TZID=Europe/Madrid:20260511T193000
DTSTAMP:20260420T035253
CREATED:20260416T181352Z
LAST-MODIFIED:20260416T181352Z
UID:102816-1778524200-1778527800@www.taradell.com
SUMMARY:Club de Lectura de novel·la negra: 'Estudi en escarlata' d'Arthur Conan Doyle
DESCRIPTION:Gratuït \nLa sessió serà conduïda per Núria Martínez. \nEstudi en escarlata presenta la primera investigació conjunta de Sherlock Holmes i John Watson\, que intenten resoldre un assassinat amb la paraula RACHE escrita amb sang a la paret. La trama combina Londres amb un flashback a l’Oest americà que revela una història de venjança. Holmes resol el cas amb el seu mètode deductiu\, establint les bases del mític duo detectivesc.
URL:https://www.taradell.com/agenda/club-de-lectura-de-novella-negra-estudi-en-escarlata-darthur-conan-doyle/
LOCATION:Biblioteca Antoni Pladevall i Font\, Carretera de Balenyà\, 101\, Taradell\, Catalunya\, 08552
CATEGORIES:Literatura
ORGANIZER;CN="Biblioteca Antoni Pladevall i Font":MAILTO:b.taradell@diba.cat
END:VEVENT
BEGIN:VEVENT
DTSTART;TZID=Europe/Madrid:20260513T190000
DTEND;TZID=Europe/Madrid:20260513T200000
DTSTAMP:20260420T035253
CREATED:20260416T181501Z
LAST-MODIFIED:20260416T181501Z
UID:102818-1778698800-1778702400@www.taradell.com
SUMMARY:Xerrada 'Menopausa no hi ha regles'
DESCRIPTION:La xerrada “Menopausa\, no hi ha regles”\, a càrrec de Mireia Grossmann\, és una activitat divulgativa sobre la menopausa amb una mirada moderna i oberta. En resum\, tracta de: \n\nEntendre la menopausa com una etapa natural\, no com una malaltia ni un problema.\nTrencar mites i tabús que sovint envolten aquest moment de la vida.\nExplicar els canvis físics i emocionals que es poden viure (cos\, sexualitat\, benestar…).\nDonar eines pràctiques i informació perquè cada dona pugui viure aquesta etapa amb més seguretat i autonomia.\nPosar èmfasi en que no hi ha una única manera de viure la menopausa\, sinó que cada experiència és diferent.\n\nPer participar-hi\, cal inscriure’s en aquest formulari.
URL:https://www.taradell.com/agenda/xerrada-menopausa-no-hi-ha-regles/
LOCATION:Can Costa Centre Cultural\, Crta. de Balenyà\, 101\, Taradell\, Catalunya\, 08552\, Spain
CATEGORIES:Cultura
ORGANIZER;CN="Ajuntament de Taradell":MAILTO:938 12 61 00
END:VEVENT
END:VCALENDAR